BEGIN:VCALENDAR
VERSION:2.0
PRODID:-//YOM ICE CREAM - ECPv6.15.20//NONSGML v1.0//EN
CALSCALE:GREGORIAN
METHOD:PUBLISH
X-ORIGINAL-URL:https://www.yomicecream.com
X-WR-CALDESC:Events for YOM ICE CREAM
REFRESH-INTERVAL;VALUE=DURATION:PT1H
X-Robots-Tag:noindex
X-PUBLISHED-TTL:PT1H
BEGIN:VTIMEZONE
TZID:America/New_York
BEGIN:DAYLIGHT
TZOFFSETFROM:-0500
TZOFFSETTO:-0400
TZNAME:EDT
DTSTART:20230312T070000
END:DAYLIGHT
BEGIN:STANDARD
TZOFFSETFROM:-0400
TZOFFSETTO:-0500
TZNAME:EST
DTSTART:20231105T060000
END:STANDARD
BEGIN:DAYLIGHT
TZOFFSETFROM:-0500
TZOFFSETTO:-0400
TZNAME:EDT
DTSTART:20240310T070000
END:DAYLIGHT
BEGIN:STANDARD
TZOFFSETFROM:-0400
TZOFFSETTO:-0500
TZNAME:EST
DTSTART:20241103T060000
END:STANDARD
BEGIN:DAYLIGHT
TZOFFSETFROM:-0500
TZOFFSETTO:-0400
TZNAME:EDT
DTSTART:20250309T070000
END:DAYLIGHT
BEGIN:STANDARD
TZOFFSETFROM:-0400
TZOFFSETTO:-0500
TZNAME:EST
DTSTART:20251102T060000
END:STANDARD
END:VTIMEZONE
BEGIN:VEVENT
DTSTART;TZID=America/New_York:20240606T140000
DTEND;TZID=America/New_York:20240606T180000
DTSTAMP:20260421T040516
CREATED:20240602T181819Z
LAST-MODIFIED:20240908T164556Z
UID:10000281-1717682400-1717696800@www.yomicecream.com
SUMMARY:Piedmont Park Concessions (Thursdays)
DESCRIPTION:Concessions in Piedmont Park offers visitors a wide variety of choices ranging from hot snack food to cold beverages\, located throughout Atlanta’s favorite park. We’ll be there every Thursday through Sunday this summer at the Charles Allen Gate and Mayors Grove Playground!
URL:https://www.yomicecream.com/event/piedmont-park-concessions-3/2024-06-06/
LOCATION:Piedmont Park\, 10th St NE\, Atlanta\, GA\, 30306
CATEGORIES:Pop Up Events
ATTACH;FMTTYPE=image/jpeg:https://www.yomicecream.com/wp-content/uploads/2024/05/PXL_20240502_174923477-1-scaled-e1716826191579.jpg
END:VEVENT
BEGIN:VEVENT
DTSTART;TZID=America/New_York:20240607T140000
DTEND;TZID=America/New_York:20240607T180000
DTSTAMP:20260421T040516
CREATED:20240602T182116Z
LAST-MODIFIED:20240908T164630Z
UID:10000503-1717768800-1717783200@www.yomicecream.com
SUMMARY:Piedmont Park Concessions (Fridays)
DESCRIPTION:Concessions in Piedmont Park offers visitors a wide variety of choices ranging from hot snack food to cold beverages\, located throughout Atlanta’s favorite park. We’ll be there every Thursday through Sunday this summer at the Charles Allen Gate and Mayors Grove Playground!
URL:https://www.yomicecream.com/event/piedmont-park-concessions-4/2024-06-07/
LOCATION:Piedmont Park\, 10th St NE\, Atlanta\, GA\, 30306
CATEGORIES:Pop Up Events
ATTACH;FMTTYPE=image/jpeg:https://www.yomicecream.com/wp-content/uploads/2024/06/PXL_20230624_120735503.PORTRAIT-scaled.jpg
END:VEVENT
BEGIN:VEVENT
DTSTART;TZID=America/New_York:20240608T110000
DTEND;TZID=America/New_York:20240608T180000
DTSTAMP:20260421T040516
CREATED:20240602T172331Z
LAST-MODIFIED:20240908T164724Z
UID:10000237-1717844400-1717869600@www.yomicecream.com
SUMMARY:Piedmont Park Concessions (Saturdays)
DESCRIPTION:Concessions in Piedmont Park offers visitors a wide variety of choices ranging from hot snack food to cold beverages\, located throughout Atlanta’s favorite park. We’ll be there every Thursday through Sunday this summer at the Charles Allen Gate and Mayors Grove Playground!
URL:https://www.yomicecream.com/event/piedmont-park-concessions-2-2/2024-06-08/
LOCATION:Piedmont Park\, 10th St NE\, Atlanta\, GA\, 30306
CATEGORIES:Pop Up Events
ATTACH;FMTTYPE=image/jpeg:https://www.yomicecream.com/wp-content/uploads/2024/05/KCP_PiedmontRoom_SummerSoiree2023-161-scaled-e1716826425651.jpg
END:VEVENT
BEGIN:VEVENT
DTSTART;TZID=America/New_York:20240609T110000
DTEND;TZID=America/New_York:20240609T180000
DTSTAMP:20260421T040516
CREATED:20240527T162023Z
LAST-MODIFIED:20240908T164654Z
UID:10000526-1717930800-1717956000@www.yomicecream.com
SUMMARY:Piedmont Park Concessions (Sundays)
DESCRIPTION:Concessions in Piedmont Park offers visitors a wide variety of choices ranging from hot snack food to cold beverages\, located throughout Atlanta’s favorite park. We’ll be there every Thursday through Sunday this summer at the Charles Allen Gate and Mayors Grove Playground!
URL:https://www.yomicecream.com/event/piedmont-park-concessions-sundays/2024-06-09/
LOCATION:Piedmont Park\, 10th St NE\, Atlanta\, GA\, 30306
CATEGORIES:Pop Up Events
ATTACH;FMTTYPE=image/jpeg:https://www.yomicecream.com/wp-content/uploads/2024/05/MGL5180-scaled-e1717367257166.jpg
END:VEVENT
BEGIN:VEVENT
DTSTART;TZID=America/New_York:20240612T150000
DTEND;TZID=America/New_York:20240612T200000
DTSTAMP:20260421T040516
CREATED:20240609T155013Z
LAST-MODIFIED:20240908T164444Z
UID:10000570-1718204400-1718222400@www.yomicecream.com
SUMMARY:Piedmont Park Concessions (Wednesdays)
DESCRIPTION:Concessions in Piedmont Park offers visitors a wide variety of choices ranging from hot snack food to cold beverages\, located throughout Atlanta’s favorite park. We’ll be there every Thursday through Sunday this summer at the Charles Allen Gate and Mayors Grove Playground!
URL:https://www.yomicecream.com/event/piedmont-park-concessions-wednesdays-2/2024-06-12/
LOCATION:Piedmont Park\, 10th St NE\, Atlanta\, GA\, 30306
CATEGORIES:Pop Up Events
ATTACH;FMTTYPE=image/jpeg:https://www.yomicecream.com/wp-content/uploads/2024/05/YOM-WEBSITE-27-1-1-scaled-e1717371821976.jpg
END:VEVENT
BEGIN:VEVENT
DTSTART;TZID=America/New_York:20240613T140000
DTEND;TZID=America/New_York:20240613T180000
DTSTAMP:20260421T040516
CREATED:20240602T181819Z
LAST-MODIFIED:20240908T164556Z
UID:10000283-1718287200-1718301600@www.yomicecream.com
SUMMARY:Piedmont Park Concessions (Thursdays)
DESCRIPTION:Concessions in Piedmont Park offers visitors a wide variety of choices ranging from hot snack food to cold beverages\, located throughout Atlanta’s favorite park. We’ll be there every Thursday through Sunday this summer at the Charles Allen Gate and Mayors Grove Playground!
URL:https://www.yomicecream.com/event/piedmont-park-concessions-3/2024-06-13/
LOCATION:Piedmont Park\, 10th St NE\, Atlanta\, GA\, 30306
CATEGORIES:Pop Up Events
ATTACH;FMTTYPE=image/jpeg:https://www.yomicecream.com/wp-content/uploads/2024/05/PXL_20240502_174923477-1-scaled-e1716826191579.jpg
END:VEVENT
BEGIN:VEVENT
DTSTART;TZID=America/New_York:20240614T140000
DTEND;TZID=America/New_York:20240614T180000
DTSTAMP:20260421T040516
CREATED:20240602T182116Z
LAST-MODIFIED:20240908T164630Z
UID:10000504-1718373600-1718388000@www.yomicecream.com
SUMMARY:Piedmont Park Concessions (Fridays)
DESCRIPTION:Concessions in Piedmont Park offers visitors a wide variety of choices ranging from hot snack food to cold beverages\, located throughout Atlanta’s favorite park. We’ll be there every Thursday through Sunday this summer at the Charles Allen Gate and Mayors Grove Playground!
URL:https://www.yomicecream.com/event/piedmont-park-concessions-4/2024-06-14/
LOCATION:Piedmont Park\, 10th St NE\, Atlanta\, GA\, 30306
CATEGORIES:Pop Up Events
ATTACH;FMTTYPE=image/jpeg:https://www.yomicecream.com/wp-content/uploads/2024/06/PXL_20230624_120735503.PORTRAIT-scaled.jpg
END:VEVENT
BEGIN:VEVENT
DTSTART;TZID=America/New_York:20240615T110000
DTEND;TZID=America/New_York:20240615T180000
DTSTAMP:20260421T040516
CREATED:20240602T172331Z
LAST-MODIFIED:20240908T164724Z
UID:10000239-1718449200-1718474400@www.yomicecream.com
SUMMARY:Piedmont Park Concessions (Saturdays)
DESCRIPTION:Concessions in Piedmont Park offers visitors a wide variety of choices ranging from hot snack food to cold beverages\, located throughout Atlanta’s favorite park. We’ll be there every Thursday through Sunday this summer at the Charles Allen Gate and Mayors Grove Playground!
URL:https://www.yomicecream.com/event/piedmont-park-concessions-2-2/2024-06-15/
LOCATION:Piedmont Park\, 10th St NE\, Atlanta\, GA\, 30306
CATEGORIES:Pop Up Events
ATTACH;FMTTYPE=image/jpeg:https://www.yomicecream.com/wp-content/uploads/2024/05/KCP_PiedmontRoom_SummerSoiree2023-161-scaled-e1716826425651.jpg
END:VEVENT
BEGIN:VEVENT
DTSTART;TZID=America/New_York:20240615T190000
DTEND;TZID=America/New_York:20240615T210000
DTSTAMP:20260421T040516
CREATED:20240609T160125Z
LAST-MODIFIED:20240609T160652Z
UID:10000592-1718478000-1718485200@www.yomicecream.com
SUMMARY:Big Canoe Chapel Concert Series: Nero Simon and The Sunsetters
DESCRIPTION:If you love a good bonfire on the beach than you won’t want to miss Nero Simon and the Sunsetters as the group brings their brand of “Coastal Americana” music to Big Canoe on June 15th. Relax to a night of classic rock and folk-style original songs along with an array of classic covers true to the originals. The Sunsetters weave stories of love and heartbreak inspired by the coast\, from Gulf Shores to 30A all the way south to the Florida Keys. Lead singers Nero Simon and MaryAnn Ooten’s renditions of classic songs by James Taylor\, Jimmy Buffett\, Linda Ronstadt\, Fleetwood Mac and Bob Marley will have you singing along\, backed by a 7-piece band with a sound that is destined to warm the heart of every listener.
URL:https://www.yomicecream.com/event/big-canoe-chapel-concert-series-nero-simon-and-the-sunsetters/
LOCATION:Big Canoe Chapel Terraces\, 1849 Steve Tate Hwy\, Marble Hill\, GA\, 30143
CATEGORIES:Pop Up Events
ATTACH;FMTTYPE=image/jpeg:https://www.yomicecream.com/wp-content/uploads/2024/06/NeroSimon24_Event-e1717948874773.jpg
END:VEVENT
BEGIN:VEVENT
DTSTART;TZID=America/New_York:20240616T110000
DTEND;TZID=America/New_York:20240616T180000
DTSTAMP:20260421T040516
CREATED:20240527T162023Z
LAST-MODIFIED:20240908T164654Z
UID:10000527-1718535600-1718560800@www.yomicecream.com
SUMMARY:Piedmont Park Concessions (Sundays)
DESCRIPTION:Concessions in Piedmont Park offers visitors a wide variety of choices ranging from hot snack food to cold beverages\, located throughout Atlanta’s favorite park. We’ll be there every Thursday through Sunday this summer at the Charles Allen Gate and Mayors Grove Playground!
URL:https://www.yomicecream.com/event/piedmont-park-concessions-sundays/2024-06-16/
LOCATION:Piedmont Park\, 10th St NE\, Atlanta\, GA\, 30306
CATEGORIES:Pop Up Events
ATTACH;FMTTYPE=image/jpeg:https://www.yomicecream.com/wp-content/uploads/2024/05/MGL5180-scaled-e1717367257166.jpg
END:VEVENT
BEGIN:VEVENT
DTSTART;TZID=America/New_York:20240616T130000
DTEND;TZID=America/New_York:20240616T170000
DTSTAMP:20260421T040516
CREATED:20240602T181233Z
LAST-MODIFIED:20240726T163136Z
UID:10000479-1718542800-1718557200@www.yomicecream.com
SUMMARY:Atlanta Streets Alive
DESCRIPTION:Atlanta Streets Alive opens streets for people by taking cars out of the equation for an afternoon to create a whole new healthy\, sustainable and vibrant city street experience. Atlanta Streets Alive is a program inspired by open streets projects all over the world. Bring your bicycle or just your feet\, and get ready to explore your community streets in a safer\, healthier\, more livable way.
URL:https://www.yomicecream.com/event/atlanta-streets-alive-2/2024-06-16/
LOCATION:10th Street Dog Park\, 1021 Peachtree St NE\, Atlanta\, GA\, 30309
CATEGORIES:Pop Up Events
ATTACH;FMTTYPE=image/jpeg:https://www.yomicecream.com/wp-content/uploads/2024/05/atlanta-streets-alive-e1716828599165.jpg
END:VEVENT
BEGIN:VEVENT
DTSTART;TZID=America/New_York:20240619T150000
DTEND;TZID=America/New_York:20240619T200000
DTSTAMP:20260421T040516
CREATED:20240609T155013Z
LAST-MODIFIED:20240908T164444Z
UID:10000571-1718809200-1718827200@www.yomicecream.com
SUMMARY:Piedmont Park Concessions (Wednesdays)
DESCRIPTION:Concessions in Piedmont Park offers visitors a wide variety of choices ranging from hot snack food to cold beverages\, located throughout Atlanta’s favorite park. We’ll be there every Thursday through Sunday this summer at the Charles Allen Gate and Mayors Grove Playground!
URL:https://www.yomicecream.com/event/piedmont-park-concessions-wednesdays-2/2024-06-19/
LOCATION:Piedmont Park\, 10th St NE\, Atlanta\, GA\, 30306
CATEGORIES:Pop Up Events
ATTACH;FMTTYPE=image/jpeg:https://www.yomicecream.com/wp-content/uploads/2024/05/YOM-WEBSITE-27-1-1-scaled-e1717371821976.jpg
END:VEVENT
BEGIN:VEVENT
DTSTART;TZID=America/New_York:20240620T140000
DTEND;TZID=America/New_York:20240620T180000
DTSTAMP:20260421T040516
CREATED:20240602T181819Z
LAST-MODIFIED:20240908T164556Z
UID:10000285-1718892000-1718906400@www.yomicecream.com
SUMMARY:Piedmont Park Concessions (Thursdays)
DESCRIPTION:Concessions in Piedmont Park offers visitors a wide variety of choices ranging from hot snack food to cold beverages\, located throughout Atlanta’s favorite park. We’ll be there every Thursday through Sunday this summer at the Charles Allen Gate and Mayors Grove Playground!
URL:https://www.yomicecream.com/event/piedmont-park-concessions-3/2024-06-20/
LOCATION:Piedmont Park\, 10th St NE\, Atlanta\, GA\, 30306
CATEGORIES:Pop Up Events
ATTACH;FMTTYPE=image/jpeg:https://www.yomicecream.com/wp-content/uploads/2024/05/PXL_20240502_174923477-1-scaled-e1716826191579.jpg
END:VEVENT
BEGIN:VEVENT
DTSTART;TZID=America/New_York:20240621T140000
DTEND;TZID=America/New_York:20240621T180000
DTSTAMP:20260421T040516
CREATED:20240602T182116Z
LAST-MODIFIED:20240908T164630Z
UID:10000505-1718978400-1718992800@www.yomicecream.com
SUMMARY:Piedmont Park Concessions (Fridays)
DESCRIPTION:Concessions in Piedmont Park offers visitors a wide variety of choices ranging from hot snack food to cold beverages\, located throughout Atlanta’s favorite park. We’ll be there every Thursday through Sunday this summer at the Charles Allen Gate and Mayors Grove Playground!
URL:https://www.yomicecream.com/event/piedmont-park-concessions-4/2024-06-21/
LOCATION:Piedmont Park\, 10th St NE\, Atlanta\, GA\, 30306
CATEGORIES:Pop Up Events
ATTACH;FMTTYPE=image/jpeg:https://www.yomicecream.com/wp-content/uploads/2024/06/PXL_20230624_120735503.PORTRAIT-scaled.jpg
END:VEVENT
BEGIN:VEVENT
DTSTART;TZID=America/New_York:20240622T110000
DTEND;TZID=America/New_York:20240622T180000
DTSTAMP:20260421T040516
CREATED:20240602T172331Z
LAST-MODIFIED:20240908T164724Z
UID:10000241-1719054000-1719079200@www.yomicecream.com
SUMMARY:Piedmont Park Concessions (Saturdays)
DESCRIPTION:Concessions in Piedmont Park offers visitors a wide variety of choices ranging from hot snack food to cold beverages\, located throughout Atlanta’s favorite park. We’ll be there every Thursday through Sunday this summer at the Charles Allen Gate and Mayors Grove Playground!
URL:https://www.yomicecream.com/event/piedmont-park-concessions-2-2/2024-06-22/
LOCATION:Piedmont Park\, 10th St NE\, Atlanta\, GA\, 30306
CATEGORIES:Pop Up Events
ATTACH;FMTTYPE=image/jpeg:https://www.yomicecream.com/wp-content/uploads/2024/05/KCP_PiedmontRoom_SummerSoiree2023-161-scaled-e1716826425651.jpg
END:VEVENT
BEGIN:VEVENT
DTSTART;TZID=America/New_York:20240623T110000
DTEND;TZID=America/New_York:20240623T180000
DTSTAMP:20260421T040516
CREATED:20240527T162023Z
LAST-MODIFIED:20240908T164654Z
UID:10000528-1719140400-1719165600@www.yomicecream.com
SUMMARY:Piedmont Park Concessions (Sundays)
DESCRIPTION:Concessions in Piedmont Park offers visitors a wide variety of choices ranging from hot snack food to cold beverages\, located throughout Atlanta’s favorite park. We’ll be there every Thursday through Sunday this summer at the Charles Allen Gate and Mayors Grove Playground!
URL:https://www.yomicecream.com/event/piedmont-park-concessions-sundays/2024-06-23/
LOCATION:Piedmont Park\, 10th St NE\, Atlanta\, GA\, 30306
CATEGORIES:Pop Up Events
ATTACH;FMTTYPE=image/jpeg:https://www.yomicecream.com/wp-content/uploads/2024/05/MGL5180-scaled-e1717367257166.jpg
END:VEVENT
BEGIN:VEVENT
DTSTART;TZID=America/New_York:20240626T150000
DTEND;TZID=America/New_York:20240626T200000
DTSTAMP:20260421T040516
CREATED:20240609T155013Z
LAST-MODIFIED:20240908T164444Z
UID:10000572-1719414000-1719432000@www.yomicecream.com
SUMMARY:Piedmont Park Concessions (Wednesdays)
DESCRIPTION:Concessions in Piedmont Park offers visitors a wide variety of choices ranging from hot snack food to cold beverages\, located throughout Atlanta’s favorite park. We’ll be there every Thursday through Sunday this summer at the Charles Allen Gate and Mayors Grove Playground!
URL:https://www.yomicecream.com/event/piedmont-park-concessions-wednesdays-2/2024-06-26/
LOCATION:Piedmont Park\, 10th St NE\, Atlanta\, GA\, 30306
CATEGORIES:Pop Up Events
ATTACH;FMTTYPE=image/jpeg:https://www.yomicecream.com/wp-content/uploads/2024/05/YOM-WEBSITE-27-1-1-scaled-e1717371821976.jpg
END:VEVENT
BEGIN:VEVENT
DTSTART;TZID=America/New_York:20240626T173000
DTEND;TZID=America/New_York:20240626T191500
DTSTAMP:20260421T040516
CREATED:20240622T144328Z
LAST-MODIFIED:20240622T144328Z
UID:10000603-1719423000-1719429300@www.yomicecream.com
SUMMARY:Midtown LIVE After 5: Arts District Plaza
DESCRIPTION:Get ready to groove every Wednesday through June at Arts District Plaza with our free music series! 🎶 Kick back after work\, soak in the tunes and the vibrant neighborhood vibes. \nConnect with your local neighbors and fellow co-workers in the area. Chairs will be provided for lounging.
URL:https://www.yomicecream.com/event/midtown-live-after-5-arts-district-plaza/
LOCATION:Arts District Plaza\, 15th St and Peachtree St\, Atlanta\, GA\, 30309
CATEGORIES:Pop Up Events
ATTACH;FMTTYPE=image/jpeg:https://www.yomicecream.com/wp-content/uploads/2024/06/liveafter5-artsdistrict.jpg
END:VEVENT
BEGIN:VEVENT
DTSTART;TZID=America/New_York:20240627T140000
DTEND;TZID=America/New_York:20240627T180000
DTSTAMP:20260421T040516
CREATED:20240602T181819Z
LAST-MODIFIED:20240908T164556Z
UID:10000287-1719496800-1719511200@www.yomicecream.com
SUMMARY:Piedmont Park Concessions (Thursdays)
DESCRIPTION:Concessions in Piedmont Park offers visitors a wide variety of choices ranging from hot snack food to cold beverages\, located throughout Atlanta’s favorite park. We’ll be there every Thursday through Sunday this summer at the Charles Allen Gate and Mayors Grove Playground!
URL:https://www.yomicecream.com/event/piedmont-park-concessions-3/2024-06-27/
LOCATION:Piedmont Park\, 10th St NE\, Atlanta\, GA\, 30306
CATEGORIES:Pop Up Events
ATTACH;FMTTYPE=image/jpeg:https://www.yomicecream.com/wp-content/uploads/2024/05/PXL_20240502_174923477-1-scaled-e1716826191579.jpg
END:VEVENT
BEGIN:VEVENT
DTSTART;TZID=America/New_York:20240627T173000
DTEND;TZID=America/New_York:20240627T193000
DTSTAMP:20260421T040516
CREATED:20240622T144717Z
LAST-MODIFIED:20240622T144814Z
UID:10000604-1719509400-1719516600@www.yomicecream.com
SUMMARY:Midtown LIVE After 5: 10th Street Park
DESCRIPTION:Get ready to groove every Thursday through June at 10th Street Park with our free music series! 🎶 Kick back after work\, soak in the tunes and the vibrant neighborhood vibes. \nThis free community event is the perfect way to unwind after work and connect with your local community and colleagues. There will be chairs to lounge in\, as well as 🏓 ping pong and corn hole for added fun.
URL:https://www.yomicecream.com/event/midtown-live-after-5-10th-street-park/
LOCATION:10th Street Dog Park\, 1021 Peachtree St NE\, Atlanta\, GA\, 30309
CATEGORIES:Pop Up Events
ATTACH;FMTTYPE=image/jpeg:https://www.yomicecream.com/wp-content/uploads/2024/06/liveafter5-10thstreet.jpg
END:VEVENT
BEGIN:VEVENT
DTSTART;TZID=America/New_York:20240628T140000
DTEND;TZID=America/New_York:20240628T180000
DTSTAMP:20260421T040516
CREATED:20240602T182116Z
LAST-MODIFIED:20240908T164630Z
UID:10000506-1719583200-1719597600@www.yomicecream.com
SUMMARY:Piedmont Park Concessions (Fridays)
DESCRIPTION:Concessions in Piedmont Park offers visitors a wide variety of choices ranging from hot snack food to cold beverages\, located throughout Atlanta’s favorite park. We’ll be there every Thursday through Sunday this summer at the Charles Allen Gate and Mayors Grove Playground!
URL:https://www.yomicecream.com/event/piedmont-park-concessions-4/2024-06-28/
LOCATION:Piedmont Park\, 10th St NE\, Atlanta\, GA\, 30306
CATEGORIES:Pop Up Events
ATTACH;FMTTYPE=image/jpeg:https://www.yomicecream.com/wp-content/uploads/2024/06/PXL_20230624_120735503.PORTRAIT-scaled.jpg
END:VEVENT
BEGIN:VEVENT
DTSTART;TZID=America/New_York:20240629T110000
DTEND;TZID=America/New_York:20240629T180000
DTSTAMP:20260421T040516
CREATED:20240602T172331Z
LAST-MODIFIED:20240908T164724Z
UID:10000243-1719658800-1719684000@www.yomicecream.com
SUMMARY:Piedmont Park Concessions (Saturdays)
DESCRIPTION:Concessions in Piedmont Park offers visitors a wide variety of choices ranging from hot snack food to cold beverages\, located throughout Atlanta’s favorite park. We’ll be there every Thursday through Sunday this summer at the Charles Allen Gate and Mayors Grove Playground!
URL:https://www.yomicecream.com/event/piedmont-park-concessions-2-2/2024-06-29/
LOCATION:Piedmont Park\, 10th St NE\, Atlanta\, GA\, 30306
CATEGORIES:Pop Up Events
ATTACH;FMTTYPE=image/jpeg:https://www.yomicecream.com/wp-content/uploads/2024/05/KCP_PiedmontRoom_SummerSoiree2023-161-scaled-e1716826425651.jpg
END:VEVENT
BEGIN:VEVENT
DTSTART;TZID=America/New_York:20240630T110000
DTEND;TZID=America/New_York:20240630T180000
DTSTAMP:20260421T040516
CREATED:20240527T162023Z
LAST-MODIFIED:20240908T164654Z
UID:10000529-1719745200-1719770400@www.yomicecream.com
SUMMARY:Piedmont Park Concessions (Sundays)
DESCRIPTION:Concessions in Piedmont Park offers visitors a wide variety of choices ranging from hot snack food to cold beverages\, located throughout Atlanta’s favorite park. We’ll be there every Thursday through Sunday this summer at the Charles Allen Gate and Mayors Grove Playground!
URL:https://www.yomicecream.com/event/piedmont-park-concessions-sundays/2024-06-30/
LOCATION:Piedmont Park\, 10th St NE\, Atlanta\, GA\, 30306
CATEGORIES:Pop Up Events
ATTACH;FMTTYPE=image/jpeg:https://www.yomicecream.com/wp-content/uploads/2024/05/MGL5180-scaled-e1717367257166.jpg
END:VEVENT
BEGIN:VEVENT
DTSTART;TZID=America/New_York:20240703T120000
DTEND;TZID=America/New_York:20240703T140000
DTSTAMP:20260421T040516
CREATED:20240625T183158Z
LAST-MODIFIED:20240625T185228Z
UID:10000609-1720008000-1720015200@www.yomicecream.com
SUMMARY:ICE CREAM GIVEAWAY: Grant Park Market
DESCRIPTION:We will be partnering with Georgia Pecan Growers to provide free Butterscotch Pecan push pops made with Georgia pecans as well as samples of YOM Ice Cream. Come grab a treat on us!
URL:https://www.yomicecream.com/event/ice-cream-giveaway-grant-park-market/
LOCATION:Grant Park Market\, 519 Memorial Dr SE Suite A-04\, Atlanta\, GA\, 30312
CATEGORIES:Pop Up Events
ATTACH;FMTTYPE=image/jpeg:https://www.yomicecream.com/wp-content/uploads/2024/06/1.jpg
END:VEVENT
BEGIN:VEVENT
DTSTART;TZID=America/New_York:20240703T150000
DTEND;TZID=America/New_York:20240703T200000
DTSTAMP:20260421T040516
CREATED:20240609T155013Z
LAST-MODIFIED:20240908T164444Z
UID:10000573-1720018800-1720036800@www.yomicecream.com
SUMMARY:Piedmont Park Concessions (Wednesdays)
DESCRIPTION:Concessions in Piedmont Park offers visitors a wide variety of choices ranging from hot snack food to cold beverages\, located throughout Atlanta’s favorite park. We’ll be there every Thursday through Sunday this summer at the Charles Allen Gate and Mayors Grove Playground!
URL:https://www.yomicecream.com/event/piedmont-park-concessions-wednesdays-2/2024-07-03/
LOCATION:Piedmont Park\, 10th St NE\, Atlanta\, GA\, 30306
CATEGORIES:Pop Up Events
ATTACH;FMTTYPE=image/jpeg:https://www.yomicecream.com/wp-content/uploads/2024/05/YOM-WEBSITE-27-1-1-scaled-e1717371821976.jpg
END:VEVENT
BEGIN:VEVENT
DTSTART;TZID=America/New_York:20240703T180000
DTEND;TZID=America/New_York:20240703T220000
DTSTAMP:20260421T040516
CREATED:20240625T173557Z
LAST-MODIFIED:20250308T200627Z
UID:10000606-1720029600-1720044000@www.yomicecream.com
SUMMARY:John's Creek Independence Day Celebration
DESCRIPTION:Fireworks\, food\, & fun!\nCelebrate our country’s independence at Newtown Park with live music\, activities\, food\, and an exceptional fireworks display!
URL:https://www.yomicecream.com/event/johns-creek-independence-day-celebration/2024-07-03/
LOCATION:Newtown Park\, 3150 Old Alabama Road\, Johns Creek\, GA\, 30022
CATEGORIES:Pop Up Events
ATTACH;FMTTYPE=image/jpeg:https://www.yomicecream.com/wp-content/uploads/2024/06/independence-day-banner-e1719336937899.jpg
END:VEVENT
BEGIN:VEVENT
DTSTART;TZID=America/New_York:20240704T120000
DTEND;TZID=America/New_York:20240704T140000
DTSTAMP:20260421T040516
CREATED:20240625T185426Z
LAST-MODIFIED:20240625T185427Z
UID:10000610-1720094400-1720101600@www.yomicecream.com
SUMMARY:ICE CREAM GIVEAWAY: B-Sides
DESCRIPTION:We will be partnering with Georgia Pecan Growers to provide free Butterscotch Pecan push pops made with Georgia pecans as well as samples of YOM Ice Cream. Come grab a treat on us!
URL:https://www.yomicecream.com/event/ice-cream-giveaway-b-sides/
LOCATION:B-Sides\, 151 Sycamore St\, Decatur\, 30030
CATEGORIES:Pop Up Events
ATTACH;FMTTYPE=image/jpeg:https://www.yomicecream.com/wp-content/uploads/2024/06/2.jpg
END:VEVENT
BEGIN:VEVENT
DTSTART;TZID=America/New_York:20240704T140000
DTEND;TZID=America/New_York:20240704T180000
DTSTAMP:20260421T040516
CREATED:20240602T181819Z
LAST-MODIFIED:20240908T164556Z
UID:10000289-1720101600-1720116000@www.yomicecream.com
SUMMARY:Piedmont Park Concessions (Thursdays)
DESCRIPTION:Concessions in Piedmont Park offers visitors a wide variety of choices ranging from hot snack food to cold beverages\, located throughout Atlanta’s favorite park. We’ll be there every Thursday through Sunday this summer at the Charles Allen Gate and Mayors Grove Playground!
URL:https://www.yomicecream.com/event/piedmont-park-concessions-3/2024-07-04/
LOCATION:Piedmont Park\, 10th St NE\, Atlanta\, GA\, 30306
CATEGORIES:Pop Up Events
ATTACH;FMTTYPE=image/jpeg:https://www.yomicecream.com/wp-content/uploads/2024/05/PXL_20240502_174923477-1-scaled-e1716826191579.jpg
END:VEVENT
BEGIN:VEVENT
DTSTART;TZID=America/New_York:20240704T170000
DTEND;TZID=America/New_York:20240704T220000
DTSTAMP:20260421T040516
CREATED:20240625T174721Z
LAST-MODIFIED:20240625T174721Z
UID:10000608-1720112400-1720130400@www.yomicecream.com
SUMMARY:Chamblee 4th of July Celebration
DESCRIPTION:The city of Chamblee will host a family-oriented Fourth of July celebration again in 2024. \nThe Independence Day summer concert and fireworks will take place from 5 p.m. to 10 p.m. on Thursday\, July 4th\, 2024. \nThe location is the new Chamblee City Hall\, located at 3518 Broad Street\, in the downtown Chamblee entertainment district. \nThe annual event will NOT be at Keswick Park this year. \nThere will be live music\, fireworks\, food\, and activities for kids and families.
URL:https://www.yomicecream.com/event/chamblee-4th-of-july-celebration/
LOCATION:Chamblee City Hall\, 3518 Broad St\, Chamblee\, GA\, 30341
CATEGORIES:Pop Up Events
ATTACH;FMTTYPE=image/jpeg:https://www.yomicecream.com/wp-content/uploads/2024/06/chamblee.jpg
END:VEVENT
BEGIN:VEVENT
DTSTART;TZID=America/New_York:20240704T180000
DTEND;TZID=America/New_York:20240704T220000
DTSTAMP:20260421T040517
CREATED:20240625T174047Z
LAST-MODIFIED:20250308T195220Z
UID:10000811-1720116000-1720130400@www.yomicecream.com
SUMMARY:Roswell Annual 4th of July Celebration
DESCRIPTION:We can’t wait to light up the skies over Roswell again on July 4! \n\n\nJoin us at Roswell Area Park for live music\, entertainment\, and food trucks. Bring your chairs and blankets to spread out at one of several fireworks viewing areas throughout the park. Fireworks will start at sunset.
URL:https://www.yomicecream.com/event/roswell-4th-of-july/
LOCATION:Roswell Area Park\, 10495 Woodstock Rd\, Roswell\, GA\, 30075
CATEGORIES:Pop Up Events
ATTACH;FMTTYPE=image/jpeg:https://www.yomicecream.com/wp-content/uploads/2024/06/event-featured-annual-4th-of-july-celebration-1685123203-e1719337238882.jpg
END:VEVENT
END:VCALENDAR